BEGIN:VCALENDAR
VERSION:2.0
PRODID:-//MEINWÄRTS. - ECPv5.3.2.1//NONSGML v1.0//EN
CALSCALE:GREGORIAN
METHOD:PUBLISH
X-WR-CALNAME:MEINWÄRTS.
X-ORIGINAL-URL:http://www.els2019.de
X-WR-CALDESC:Veranstaltungen für MEINWÄRTS.
BEGIN:VTIMEZONE
TZID:Europe/Berlin
BEGIN:DAYLIGHT
TZOFFSETFROM:+0100
TZOFFSETTO:+0200
TZNAME:CEST
DTSTART:20190331T010000
END:DAYLIGHT
BEGIN:STANDARD
TZOFFSETFROM:+0200
TZOFFSETTO:+0100
TZNAME:CET
DTSTART:20191027T010000
END:STANDARD
END:VTIMEZONE
BEGIN:VEVENT
DTSTART;VALUE=DATE:20190804
DTEND;VALUE=DATE:20190825
DTSTAMP:20260419T213936
CREATED:20190814T153746Z
LAST-MODIFIED:20190829T113555Z
UID:960-1564876800-1566691199@www.els2019.de
SUMMARY:ELSE GEHT AUS X – DU UND ICH 2 | Ausstellung
DESCRIPTION:04. – 24. August 2019\nElse geht aus X – KuKuNa\, Internationales Begegnungszentrum\nHünefeldstraße 54A\, 42285 Wuppertal \nVernissage: 4. August 2019\, 12 Uhr\nDie Ausstellung wird mit einem Künstlergespräch eröffnet. \nDu und Ich\nKünstler*innen der Ausstellung X:\nPetra Pfaff\, Maria Pienkowski\, Martin Rybacki\, Teresa Wojciechowska /\nMalerei\, Grafik\, Objekte\, Skulptur \nSoundcollage: Charles Petersohn\nLektoren: Anita Petersohn\, Anna Muminovic\, Mario Petersohn\, Charles Petersohn\, Frank N\, Gabriele Klopsch \nSamstag\, 10. August 2019 um 14 Uhr\nEin moderierter Austausch über die Kunst Else Lasker-Schülers\nEine Kooperation des Kulturbüros W-tal\, BBK Bergisch Land e.V. mit dem Literarischen Colloquium Berlin.\nAutor*innen: Ann Cotten\, Adi Keissar und Mathias Traxler \nÖffnungszeiten:\nDi\, Do 10.30 – 12.30 Uhr u. Sa. 14 – 16 Uhr \nDie vier Künstler*innen beschäftigen sich mit dem Thema des menschlichen Körpers\, seinem sensiblen\, verletzlichen und vergänglichen Dasein. Die kostümierte als auch die nackte menschliche Figur\, Gesicht oder Torso sagen etwas über das Wechselspiel der Gefühle Trauer und Glück\, Liebe und Zerrissenheit aus\, dargestellt durch Körpersprache und Mimik\, meistens in realistischer\, figurativer Form der Kunst. \n(T. Wojciechowska)
URL:http://www.els2019.de/event/else-geht-aus-x-du-und-ich-2-ausstellung/
LOCATION:KuKuNa | Internationales Begegnungszentrum\, Hünefeldstraße 54a\, Wuppertal\, 42285
END:VEVENT
END:VCALENDAR