BEGIN:VCALENDAR
VERSION:2.0
PRODID:-//MEINWÄRTS. - ECPv5.3.2.1//NONSGML v1.0//EN
CALSCALE:GREGORIAN
METHOD:PUBLISH
X-WR-CALNAME:MEINWÄRTS.
X-ORIGINAL-URL:http://www.els2019.de
X-WR-CALDESC:Veranstaltungen für MEINWÄRTS.
BEGIN:VTIMEZONE
TZID:Europe/Berlin
BEGIN:DAYLIGHT
TZOFFSETFROM:+0100
TZOFFSETTO:+0200
TZNAME:CEST
DTSTART:20190331T010000
END:DAYLIGHT
BEGIN:STANDARD
TZOFFSETFROM:+0200
TZOFFSETTO:+0100
TZNAME:CET
DTSTART:20191027T010000
END:STANDARD
END:VTIMEZONE
BEGIN:VEVENT
DTSTART;TZID=Europe/Berlin:20190919T180000
DTEND;TZID=Europe/Berlin:20190919T200000
DTSTAMP:20260422T165151
CREATED:20190911T093701Z
LAST-MODIFIED:20190911T093732Z
UID:1036-1568916000-1568923200@www.els2019.de
SUMMARY:‚STURM-FRAUEN‘ | Lichtbildervortrag
DESCRIPTION:Lichtbildvortrag \nElse Lasker-Schüler und die Künstlerinnen der Avantgarde. \n  \nModeration: Hajo Jahn \nRezitation: Leslie Malton \nKlavier: Ulrich Rasch
URL:http://www.els2019.de/event/sturm-frauen-lichtbildervortrag/
LOCATION:Von der Heydt-Museum\, Turmhof 8\, Wuppertal
CATEGORIES:Begegnungen mit Else,Kunst,Musik,Präsentation,Veranstaltung | abends
ORGANIZER;CN="Else%20Lasker-Sch%C3%BCler%20Gesellschaft%20Wuppertal":MAILTO:vorstand@else-lasker-schueler-gesellschaft.de
END:VEVENT
END:VCALENDAR