BEGIN:VCALENDAR
VERSION:2.0
PRODID:-//MEINWÄRTS. - ECPv5.3.2.1//NONSGML v1.0//EN
CALSCALE:GREGORIAN
METHOD:PUBLISH
X-WR-CALNAME:MEINWÄRTS.
X-ORIGINAL-URL:http://www.els2019.de
X-WR-CALDESC:Veranstaltungen für MEINWÄRTS.
BEGIN:VTIMEZONE
TZID:Europe/Berlin
BEGIN:DAYLIGHT
TZOFFSETFROM:+0100
TZOFFSETTO:+0200
TZNAME:CEST
DTSTART:20190331T010000
END:DAYLIGHT
BEGIN:STANDARD
TZOFFSETFROM:+0200
TZOFFSETTO:+0100
TZNAME:CET
DTSTART:20191027T010000
END:STANDARD
END:VTIMEZONE
BEGIN:VEVENT
DTSTART;TZID=Europe/Berlin:20190924T190000
DTEND;TZID=Europe/Berlin:20190924T190000
DTSTAMP:20260422T182354
CREATED:20190913T092435Z
LAST-MODIFIED:20190923T134856Z
UID:1047-1569351600-1569351600@www.els2019.de
SUMMARY:POPUP - PRINZ*ESSIN JUSSUF VON THEBEN | JAYRÔME C. ROBINET | Lesung
DESCRIPTION:#POPUP mit JAYRÔME C. ROBINET \nJayrôme C. Robinet\, geboren 1977 in Nordfrankreich\, ist Spoken-Word-Künstler\, Autor und Übersetzer. Zuletzt erschien von ihm ‚Das Licht ist weder gerecht noch ungerecht‘. \nIn seinem autobiographischen Text ‚Mein Weg von einer weißen Frau zu einem jungen Mann mit Migrationshintergrund‘ hinterfragt er Geschlechterzuordnungen und -Definitionen\, die sich aus ihm lebensweltlicher Perspektive auftun: Jayrôme hat früher als weiße Französin gelebt. Dann zieht er nach Berlin\, beginnt Testosteron zu nehmen und erlebt eine zweite Pubertät. Ihm wächst ein dunk-ler Bart – und plötzlich wird er auf der Straße auf Arabisch angesprochen. Ob im Café\, in der Um-kleide oder bei der Passkontrolle. Er merkt\, dass sich nicht nur seine Identität\, sondern vor allem das Verhalten seiner Umwelt ihm gegenüber radikal geändert hat. Er kann vergleichen: Wie werde ich als Mann\, wie als Frau behandelt? Und was bedeutet es\, wenn sich nicht nur das Geschlecht ändert\, sondern augenscheinlich auch Herkunft und Alter? \nJayrôme C. Robinet wurde mit zahlreichen Preisen und Stipendien ausgezeichnet. Am 24. September wird er im Rahmen des literarischen POPUPs ‚Prinz*essin Jussuf von Theben‘ in der MAUKE in Wuppertal lesen. \nEINTRITT: frei
URL:http://www.els2019.de/event/popup-prinzessin-jussuf-von-theben-jayrome-c-robinet-liest-in-der-mauke/
LOCATION:Mauke\, Schloßbleiche 32\, Wuppertal\, 42103
CATEGORIES:Lesung,Veranstaltung | abends
END:VEVENT
END:VCALENDAR