BEGIN:VCALENDAR
VERSION:2.0
PRODID:-//MEINWÄRTS. - ECPv5.3.2.1//NONSGML v1.0//EN
CALSCALE:GREGORIAN
METHOD:PUBLISH
X-WR-CALNAME:MEINWÄRTS.
X-ORIGINAL-URL:http://www.els2019.de
X-WR-CALDESC:Veranstaltungen für MEINWÄRTS.
BEGIN:VTIMEZONE
TZID:Europe/Berlin
BEGIN:DAYLIGHT
TZOFFSETFROM:+0100
TZOFFSETTO:+0200
TZNAME:CEST
DTSTART:20190331T010000
END:DAYLIGHT
BEGIN:STANDARD
TZOFFSETFROM:+0200
TZOFFSETTO:+0100
TZNAME:CET
DTSTART:20191027T010000
END:STANDARD
END:VTIMEZONE
BEGIN:VEVENT
DTSTART;TZID=Europe/Berlin:20191007T193000
DTEND;TZID=Europe/Berlin:20191007T213000
DTSTAMP:20260422T195653
CREATED:20190930T143620Z
LAST-MODIFIED:20190930T143620Z
UID:1115-1570476600-1570483800@www.els2019.de
SUMMARY:MEIN HERZ - NIEMANDEM | Filmvorführung
DESCRIPTION:Helma Sanders-Brahms erzählt die Geschichte des (angeblichen) Liebespaares Else Lasker-Schüler und Gottfried Benn – von ihrer Kindheit an bis zum Ende des Dritten Reichs. Das Verhältnis zwischen der aus Elberfeld stammenden Jüdin\, die sich bald der Verfolgung ausgesetzt sieht\, und dem Protestanten\, der von den Nationalsozialisten zunächst fasziniert sein wird\, lebt dabei vor allem durch die Texte von Lasker-Schüler und Benn\, die viel Raum in diesem Film einnehmen. „Die Gedichte“\, so Helma Sanders-Brahms\, „sind das Wichtigste\, es geht um diese Gedichte\, um diesen Gedicht-Dialog vor dem Hintergrund der deutschen Geschichte.“ \n_ \nAls Else Lasker-Schüler um 1900 nach Berlin zieht\, trifft sie auf eine pulsierende und weltoffene Metropole. Lasker-Schüler veröffentlicht ihre ersten expressionistischen Gedichte und befreundet sich mit Malern wie Wassily Kandinsky\, Franz Marc und Marc Chagall. Doch erst die Begegnung mit dem Arzt und Dichter Gottfried Benn entfacht eine künstlerische wie private Leidenschaft. \nAls das Berliner Kino Arsenal 1998 eine erste umfassende Retrospektive der Filmemacherin Helma Sanders-Brahms initiierte\, wurde »Mein Herz – niemandem!«\, ihre bis dato letzte Regiearbeit\, im Katalog gefeiert: »Die Geschichte einer Liebe zwischen einer Jüdin und einem Deutschen in diesem Jahrhundert\, zwischen Rivalen in der lyrischen Dichtung\, die einander den schönsten Liebesdialog der Weltliteratur geliefert haben\, leidenschaftlich\, sinnlich\, verzweifelt\, wild\, einander verfallend und einander hassend. Das Schauspielduo Lena Stolze und Cornelius Obonya brilliert in dieser kunstvoll-arrangierten Amour fou. Biografie mit Lena Stolze\, Cornelius Obonya\, Thomas Ruffer\, René Schubert u.a. Regie: Helma Sanders-Brahms.
URL:http://www.els2019.de/event/mein-herz-niemandem-filmvorfuehrung/
LOCATION:Alte Feuerwache\, Gathe 6\, Wuppertal\, 42107\, Deutschland
CATEGORIES:Begegnungen mit Else,Veranstaltung | abends
ORGANIZER;CN="Else%20Lasker-Sch%C3%BCler%20Gesellschaft%20Wuppertal":MAILTO:vorstand@else-lasker-schueler-gesellschaft.de
END:VEVENT
END:VCALENDAR